BEGIN:VCALENDAR

VERSION:2.0

PRODID:-//wp-events-plugin.com//7.2.3.1//EN

TZID:Asia/Jerusalem

X-WR-TIMEZONE:Asia/Jerusalem
BEGIN:VEVENT

UID:23@meeng.technion.ac.il

DTSTART;TZID=Asia/Jerusalem:20240606T130000

DTEND;TZID=Asia/Jerusalem:19700101T133000

DTSTAMP:20240603T093215Z

URL:https://meeng.technion.ac.il/events/orel-guetta-seminar-060624/

SUMMARY:Seminar: Constitutive Modeling of Methyl Cellulose Hydrogel under S
 tatic and Dynamic Loadings
DESCRIPTION:Methyl cellulose (MC) is a unique material that displays a liqu
 id-solid phase transition when heated. Methyl cellulose is a biocompatible
  material and it is FDA approved. The manufacturing process of the gel is 
 cheap and it is widely used in the bio-engineering field as well as a stru
 ctural material for 3D bioprinting\, drug delivery system etc.\nIn this wo
 rk\, the static mechanical behavior of solid MC was first characterized an
 d modeled. Compression tests of MC\, with different compositions and tempe
 ratures were performed. Various\nhyperelastic models\, with different leve
 ls of complexity were examined. Since tension experiments of MC are challe
 nging\, the predicted behavior of each model was compared qualitatively to
  other hydrogels tension curves.
CATEGORIES:סמנירים
LOCATION:D. Dan and Betty Kahn Building\, Room 217

END:VEVENT

BEGIN:VTIMEZONE

TZID:Asia/Jerusalem

X-LIC-LOCATION:Asia/Jerusalem

END:VTIMEZONE
END:VCALENDAR